BEGIN:VCALENDAR
VERSION:2.0
PRODID:icalendar-ruby
CALSCALE:GREGORIAN
METHOD:PUBLISH
BEGIN:VEVENT
DTSTAMP:20260421T010730Z
UID:76-606341@radiantchurchga.com
DTSTART:20260526T224500Z
DTEND:20260526T234500Z
CLASS:PUBLIC
CREATED:20260420T201916
DESCRIPTION:High School Boys' small group and Bible study meets every Wedne
 sday night.
LAST-MODIFIED:20260420T201916
LOCATION:Radiant Church
SUMMARY:High School Boys
URL;VALUE=URI:https://www.radiantchurchga.com/events/high-school-boys/2026-
 05-26
ATTACH;FILENAME=P1019604.jpg;FMTTYPE=image/jpeg:https://dq5pwpg1q8ru0.cloud
 front.net/2025/04/17/01/19/52/fb6086d5-539d-4e62-aaf3-11a9f9895df7/P101960
 4.jpg
END:VEVENT
END:VCALENDAR
